BEGIN:VCALENDAR
VERSION:2.0
PRODID:-//PMK Kleve - ECPv4.7.1//NONSGML v1.0//EN
CALSCALE:GREGORIAN
METHOD:PUBLISH
X-WR-CALNAME:PMK Kleve
X-ORIGINAL-URL:https://pmk-kleve.de
X-WR-CALDESC:Veranstaltungen für PMK Kleve
BEGIN:VEVENT
DTSTART;VALUE=DATE:20221222
DTEND;VALUE=DATE:20221223
DTSTAMP:20260423T040319
CREATED:20221202T124024Z
LAST-MODIFIED:20221202T124024Z
UID:4829-1671667200-1671753599@pmk-kleve.de
SUMMARY:Roraty
DESCRIPTION:Msza św. o godz. 19.30 w Beichtkapelle w Kevelaer. \nZabierzmy ze sobą lampiony. \n
URL:https://pmk-kleve.de/event/roraty-17
CATEGORIES:Wydarzenia na strone główną
END:VEVENT
END:VCALENDAR