BEGIN:VCALENDAR
VERSION:2.0
PRODID:-//PMK Kleve - ECPv4.7.1//NONSGML v1.0//EN
CALSCALE:GREGORIAN
METHOD:PUBLISH
X-WR-CALNAME:PMK Kleve
X-ORIGINAL-URL:https://pmk-kleve.de
X-WR-CALDESC:Veranstaltungen für PMK Kleve
BEGIN:VEVENT
DTSTART;VALUE=DATE:20221216
DTEND;VALUE=DATE:20221217
DTSTAMP:20260423T081839
CREATED:20221202T124203Z
LAST-MODIFIED:20221202T124203Z
UID:4835-1671148800-1671235199@pmk-kleve.de
SUMMARY:Roraty
DESCRIPTION:Msza św. o godz. 19.00 w kościele St. Aldegundis w Emmerich am Rhein. \nZabierzmy ze sobą lampiony. \n
URL:https://pmk-kleve.de/event/roraty-20
CATEGORIES:Wydarzenia na strone główną
END:VEVENT
END:VCALENDAR