BEGIN:VCALENDAR
VERSION:2.0
PRODID:-//PMK Kleve - ECPv4.7.1//NONSGML v1.0//EN
CALSCALE:GREGORIAN
METHOD:PUBLISH
X-WR-CALNAME:PMK Kleve
X-ORIGINAL-URL:https://pmk-kleve.de
X-WR-CALDESC:Veranstaltungen für PMK Kleve
BEGIN:VEVENT
DTSTART;TZID=UTC+0:20231216T073000
DTEND;TZID=UTC+0:20231216T083000
DTSTAMP:20260419T135120
CREATED:20231201T093434Z
LAST-MODIFIED:20231208T140204Z
UID:6056-1702711800-1702715400@pmk-kleve.de
SUMMARY:RORATY
DESCRIPTION:  \nW sobotę 16 grudnia zapraszam wszystkich parafian\, a szczególnie dzieci przygotowujące sie do przyjęcia I Komunii św. oraz młodzież młodzież przygotowującą się do przyjęcia Sakramentu bierzmowania na poranne roraty o godz. 7.30 do kościoła Chrystusa Króla w Kleve. \nZabierzmy ze sobą lampiony\, by z płonącym światłem i radością w sercu przygotowywać się na przyjście Pana. \n
URL:https://pmk-kleve.de/event/roraty-23
CATEGORIES:Wydarzenia na strone główną
END:VEVENT
END:VCALENDAR