BEGIN:VCALENDAR
VERSION:2.0
PRODID:-//PMK Kleve - ECPv4.7.1//NONSGML v1.0//EN
CALSCALE:GREGORIAN
METHOD:PUBLISH
X-WR-CALNAME:PMK Kleve
X-ORIGINAL-URL:https://pmk-kleve.de
X-WR-CALDESC:Veranstaltungen für PMK Kleve
BEGIN:VEVENT
DTSTART;VALUE=DATE:20231206
DTEND;VALUE=DATE:20231207
DTSTAMP:20260419T185009
CREATED:20231203T133155Z
LAST-MODIFIED:20231203T133156Z
UID:6088-1701820800-1701907199@pmk-kleve.de
SUMMARY:RORATY
DESCRIPTION:Msza św. o godz. 19.00 w kościele St.Mariä Empfängnis w Kleve \n
URL:https://pmk-kleve.de/event/roraty-24
CATEGORIES:Wydarzenia na strone główną
END:VEVENT
END:VCALENDAR