BEGIN:VCALENDAR
VERSION:2.0
PRODID:-//PMK Kleve - ECPv4.7.1//NONSGML v1.0//EN
CALSCALE:GREGORIAN
METHOD:PUBLISH
X-WR-CALNAME:PMK Kleve
X-ORIGINAL-URL:https://pmk-kleve.de
X-WR-CALDESC:Veranstaltungen für PMK Kleve
BEGIN:VEVENT
DTSTART;VALUE=DATE:20231215
DTEND;VALUE=DATE:20231216
DTSTAMP:20260419T171022
CREATED:20231203T133332Z
LAST-MODIFIED:20231203T133332Z
UID:6096-1702598400-1702684799@pmk-kleve.de
SUMMARY:RORATY
DESCRIPTION:Msza św. o godz. 19.00 w kościele St.Aldegundis w Emmerich am Rhein \n
URL:https://pmk-kleve.de/event/roraty-28
CATEGORIES:Wydarzenia na strone główną
END:VEVENT
END:VCALENDAR