BEGIN:VCALENDAR
VERSION:2.0
PRODID:-//PMK Kleve - ECPv4.7.1//NONSGML v1.0//EN
CALSCALE:GREGORIAN
METHOD:PUBLISH
X-WR-CALNAME:PMK Kleve
X-ORIGINAL-URL:https://pmk-kleve.de
X-WR-CALDESC:Veranstaltungen für PMK Kleve
BEGIN:VEVENT
DTSTART;VALUE=DATE:20231214
DTEND;VALUE=DATE:20231215
DTSTAMP:20260419T184943
CREATED:20231203T133511Z
LAST-MODIFIED:20231203T133511Z
UID:6102-1702512000-1702598399@pmk-kleve.de
SUMMARY:RORATY
DESCRIPTION:Msza św. o godz. 19.30 w Beichtkapelle w Kevelaer \n
URL:https://pmk-kleve.de/event/roraty-31
CATEGORIES:Wydarzenia na strone główną
END:VEVENT
END:VCALENDAR