BEGIN:VCALENDAR
VERSION:2.0
PRODID:-//PMK Kleve - ECPv4.7.1//NONSGML v1.0//EN
CALSCALE:GREGORIAN
METHOD:PUBLISH
X-WR-CALNAME:PMK Kleve
X-ORIGINAL-URL:https://pmk-kleve.de
X-WR-CALDESC:Veranstaltungen für PMK Kleve
BEGIN:VEVENT
DTSTART;VALUE=DATE:20220924
DTEND;VALUE=DATE:20220925
DTSTAMP:20260423T233621
CREATED:20220916T140622Z
LAST-MODIFIED:20220916T140708Z
UID:4343-1663977600-1664063999@pmk-kleve.de
SUMMARY:Spotkanie dla ministrantów i kandydatów na ministrantów
DESCRIPTION:\nEmmerich – godz. 9.00 przy kościele St. Aldegundis\, \nKleve – godz. 10.30 w salce przy biurze PMK\,\nKevelaer – godz. 12.00 w salce za kościołem St. Antonius.\n\n
URL:https://pmk-kleve.de/event/spotkanie-dla-ministrantow-i-kandydatow-na-ministrantow
CATEGORIES:Wydarzenia na strone główną
END:VEVENT
END:VCALENDAR