BEGIN:VCALENDAR
VERSION:2.0
PRODID:-//PMK Kleve - ECPv4.7.1//NONSGML v1.0//EN
CALSCALE:GREGORIAN
METHOD:PUBLISH
X-WR-CALNAME:PMK Kleve
X-ORIGINAL-URL:https://pmk-kleve.de
X-WR-CALDESC:Veranstaltungen für PMK Kleve
BEGIN:VEVENT
DTSTART;VALUE=DATE:20220925
DTEND;VALUE=DATE:20220926
DTSTAMP:20260423T222758
CREATED:20220916T141059Z
LAST-MODIFIED:20220916T141059Z
UID:4347-1664064000-1664150399@pmk-kleve.de
SUMMARY:Spotkanie dla rodziców dzieci przygotowujących się do przyjecia I Komunii św. w 2023 r.
DESCRIPTION:W niedzielę 25. września po Mszach świętych\, w każdym kościele. \n
URL:https://pmk-kleve.de/event/spotkanie-dla-rodzicow-dzieci-przygotowujacych-sie-do-przyjecia-i-komunii-sw-w-2023-r
CATEGORIES:Wydarzenia na strone główną
END:VEVENT
END:VCALENDAR