BEGIN:VCALENDAR
VERSION:2.0
PRODID:-//PMK Kleve - ECPv4.7.1//NONSGML v1.0//EN
CALSCALE:GREGORIAN
METHOD:PUBLISH
X-WR-CALNAME:PMK Kleve
X-ORIGINAL-URL:https://pmk-kleve.de
X-WR-CALDESC:Veranstaltungen für PMK Kleve
BEGIN:VEVENT
DTSTART;TZID=UTC+0:20240228T200000
DTEND;TZID=UTC+0:20240228T210000
DTSTAMP:20260419T210654
CREATED:20240214T152321Z
LAST-MODIFIED:20240223T135842Z
UID:6323-1709150400-1709154000@pmk-kleve.de
SUMMARY:Rozważania na temat Wyznania Wiary w oparciu o KKK
DESCRIPTION: \n
URL:https://pmk-kleve.de/event/spotkanie-na-temat-wiary
CATEGORIES:Wydarzenia na strone główną
END:VEVENT
END:VCALENDAR