BEGIN:VCALENDAR
VERSION:2.0
PRODID:-//PMK Kleve - ECPv4.7.1//NONSGML v1.0//EN
CALSCALE:GREGORIAN
METHOD:PUBLISH
X-WR-CALNAME:PMK Kleve
X-ORIGINAL-URL:https://pmk-kleve.de
X-WR-CALDESC:Veranstaltungen für PMK Kleve
BEGIN:VEVENT
DTSTART;VALUE=DATE:20240407
DTEND;VALUE=DATE:20240408
DTSTAMP:20260419T210834
CREATED:20240322T093826Z
LAST-MODIFIED:20240322T101237Z
UID:6432-1712448000-1712534399@pmk-kleve.de
SUMMARY:Spotkanie z Jackiem Pulikowskim
DESCRIPTION:Jacek Pulikowski jest szczęśliwym mężem Jadwigi (od 1976 roku) i ojcem Marii\, Jana i Urszuli\, również szczęśliwym teściem Marty\, Artura i Tomasza oraz dziadkiem siedmiorga (na razie) wnucząt. \nOd wielu lat zaangażowany w działalność Duszpasterstwa Rodzin i Poradnictwo Rodzinne. Nauczyciel NPR. Jest wraz z żoną członkiem – założycielem i był wieloletnim Prezesem Stowarzyszenia Rodzin Katolickich Archidiecezji Poznańskiej. Przez dwie kadencje był świeckim konsultorem Rady do spraw Rodziny Konferencji Episkopatu Polski (KEP)\, jedną kadencję wraz z żoną są w Komisji Duszpasterstwa KEP. Oboje byli też audytorami na Synodzie Biskupów o Rodzinie w Rzymie w 2015 roku. \nAutor poczytnych książek i artykułów w licznych czasopismach katolickich oraz uczestnik audycji radiowych i telewizyjnych na tematy rodzinne (miłość\, czystość\, płciowość\, ojcostwo\, rodzicielstwo). Wszystkie jego książki wznawiano w wielotysięcznych nakładach\, a niektóre przetłumaczono na języki obce (angielski\, niemiecki\, rosyjski\, łotewski\, litewski\, białoruski\, ukraiński). Nagrodzony nagrodą wydawców katolickich Feniks za kilka książek w serii: Jak wygrać… Popularny mówca spotykający się z młodzieżą\, narzeczonymi\, małżeństwami\, nauczycielami\, kapłanami i… teściami \nDr inż. Jacek Pulikowski przez całe życie zawodowe był nauczycielem akademickim na uczelni technicznej – Politechnice Poznańskiej. Ponadto prowadził zajęcia na Podyplomowym Studium Rodziny na Wydziale Teologicznym Uniwersytetu Adama Mickiewicza w Poznaniu. \nZa swoją działalność dydaktyczną oraz na rzecz rodzin nagrodzony:                    \nMedalem Komisji Edukacji Narodowej (2006);   Złotym Krzyżem Zasługi (2010); medalem Optime Merito Archidioecesis Posnaniensis; wyróżnieniem Amicus Matrimoniorum A.D. MMXIV\, Świdnica (wraz z żoną); Nagrodą im. Jerzego Ciesielskiego\, Redakcja Źródła (2015); medalem Fides et Ratio (wraz z żoną\, 2015) oraz nagrodą Lwy Ordo Iuris w kategorii Rodzina (wraz z żoną 2023) \nŹródło: https://jacekpulikowski.pl/o-mnie/ \nZapraszamy na konferencję po każdej Mszy św.  \n
URL:https://pmk-kleve.de/event/spotkanie-z-jackiem-pulikowskim
CATEGORIES:Wydarzenia na strone główną
END:VEVENT
END:VCALENDAR