BEGIN:VCALENDAR
VERSION:2.0
PRODID:-//PMK Kleve - ECPv4.7.1//NONSGML v1.0//EN
CALSCALE:GREGORIAN
METHOD:PUBLISH
X-WR-CALNAME:PMK Kleve
X-ORIGINAL-URL:https://pmk-kleve.de
X-WR-CALDESC:Veranstaltungen für PMK Kleve
BEGIN:VEVENT
DTSTART;VALUE=DATE:20250406
DTEND;VALUE=DATE:20250413
DTSTAMP:20260423T084234
CREATED:20250328T090138Z
LAST-MODIFIED:20250331T104054Z
UID:7332-1743897600-1744502399@pmk-kleve.de
SUMMARY:SPOWIEDŹ WIELKOPOSTNA
DESCRIPTION:SPOWIEDŹ  \n06.04 Niedziela – 30 min przed każdą Mszą św. i w czasie Mszy św. \n07.04 Poniedziałek – od godz. 18.00 w Kevelaer\, St. Antonius \n08.04 Wtorek – od godz. 18.00 w Emmerich\, St. Aldegundis \n09.04 Środa – od godz. 18.00 w Kleve\, Mariä Empf. \n10.04 Czwartek – od godz. 18.00 w Kevelaer\, Beichtkapelle \n11.04 Piątek – od godz. 18.30 w Emmerich\, St. Aldegundis \n12.04 Sobota – od godz. 18.00 w Kleve\, Mariä Empf. \n18.04 Wielki Piątek – od godz. 20.30 do godz. 22.00 w Kleve\, Stiftskirche \n
URL:https://pmk-kleve.de/event/spowiedz-wielkopostna
CATEGORIES:Wydarzenia na strone główną
END:VEVENT
END:VCALENDAR