BEGIN:VCALENDAR
VERSION:2.0
PRODID:-//PMK Kleve - ECPv4.7.1//NONSGML v1.0//EN
CALSCALE:GREGORIAN
METHOD:PUBLISH
X-WR-CALNAME:PMK Kleve
X-ORIGINAL-URL:https://pmk-kleve.de
X-WR-CALDESC:Veranstaltungen für PMK Kleve
BEGIN:VEVENT
DTSTART;VALUE=DATE:20240214
DTEND;VALUE=DATE:20240215
DTSTAMP:20260419T145009
CREATED:20240209T102955Z
LAST-MODIFIED:20240209T103155Z
UID:6295-1707868800-1707955199@pmk-kleve.de
SUMMARY:Środa Popielcowa
DESCRIPTION:Środa Popielcowa rozpoczyna czterdziestodniowy okres przygotowania paschalnego – okres Wielkiego Postu.  \nMsza święta z posypaniem na znak pokuty naszych głów popiołem w Kleve\, w kościele St. Mariä Empfängnis o godz. 19.00. Zachęcamy do licznego uczestnictwa oraz całkowitego zaangażowania się w ten święty czas. \nŚroda Popielcowa to dzień postu ścisłego zobowiązującego wiernych między 18. a 60. rokiem życia\, oprócz wstrzemięźliwości od pokarmów mięsnych\, do jednorazowego posiłku do syta oraz dwóch skromnych posiłków w ciągu dnia. Osoby starsze i nieco młodsze (które ukończyły 14 lat) są zobowiązane tego dnia do wstrzemięźliwości od pokarmów mięsnych.  \n
URL:https://pmk-kleve.de/event/sroda-popielcowa-4
CATEGORIES:Wydarzenia na strone główną
END:VEVENT
END:VCALENDAR