BEGIN:VCALENDAR
VERSION:2.0
PRODID:-//PMK Kleve - ECPv4.7.1//NONSGML v1.0//EN
CALSCALE:GREGORIAN
METHOD:PUBLISH
X-WR-CALNAME:PMK Kleve
X-ORIGINAL-URL:https://pmk-kleve.de
X-WR-CALDESC:Veranstaltungen für PMK Kleve
BEGIN:VEVENT
DTSTART;VALUE=DATE:20230121
DTEND;VALUE=DATE:20230122
DTSTAMP:20260423T085341
CREATED:20230108T171439Z
LAST-MODIFIED:20230108T171439Z
UID:5005-1674259200-1674345599@pmk-kleve.de
SUMMARY:św. Agnieszki\, dziewicy i męczennicy
DESCRIPTION:
URL:https://pmk-kleve.de/event/sw-agnieszki-dziewicy-i-meczennicy
CATEGORIES:Wydarzenia na strone główną
END:VEVENT
END:VCALENDAR