BEGIN:VCALENDAR
VERSION:2.0
PRODID:-//PMK Kleve - ECPv4.7.1//NONSGML v1.0//EN
CALSCALE:GREGORIAN
METHOD:PUBLISH
X-WR-CALNAME:PMK Kleve
X-ORIGINAL-URL:https://pmk-kleve.de
X-WR-CALDESC:Veranstaltungen für PMK Kleve
BEGIN:VEVENT
DTSTART;VALUE=DATE:20231130
DTEND;VALUE=DATE:20231201
DTSTAMP:20260420T044438
CREATED:20231124T101654Z
LAST-MODIFIED:20231124T101655Z
UID:6008-1701302400-1701388799@pmk-kleve.de
SUMMARY:św. Andrzeja\, Apostoła
DESCRIPTION:W czwartek\, 30 listopada\, w kalendarzu liturgicznym przypada święto świętego Andrzeja Apostoła.  \nApostoł Andrzej był pierwszym uczniem powołanym przez Pana Jezusa\, rodzonym bratem Świętego Piotra. Tradycja głosi\, że po Zesłaniu Ducha Świętego udał się do Grecji\, gdzie oddał życie za wiarę ukrzyżowany głową do dołu. Pamiątką tego są tak zwane krzyże Świętego Andrzeja w kształcie litery „X”.  \nMsza Święta w Kevelaer\, Beichtkapelle o godz. 19.30.  \n
URL:https://pmk-kleve.de/event/sw-andrzeja-apostola-2
CATEGORIES:Wydarzenia na strone główną
END:VEVENT
END:VCALENDAR