BEGIN:VCALENDAR
VERSION:2.0
PRODID:-//PMK Kleve - ECPv4.7.1//NONSGML v1.0//EN
CALSCALE:GREGORIAN
METHOD:PUBLISH
X-WR-CALNAME:PMK Kleve
X-ORIGINAL-URL:https://pmk-kleve.de
X-WR-CALDESC:Veranstaltungen für PMK Kleve
BEGIN:VEVENT
DTSTART;VALUE=DATE:20220516
DTEND;VALUE=DATE:20220517
DTSTAMP:20260423T102534
CREATED:20220512T082545Z
LAST-MODIFIED:20220512T082545Z
UID:4050-1652659200-1652745599@pmk-kleve.de
SUMMARY:Św. Andrzeja Boboli\, patrona Polski\, święto
DESCRIPTION:Św. Andrzej Bobola (1591-1657) \nKaznodzieja\, misjonarz\, jezuita\, męczennik za wiarę. Pracował m.in. w Wilnie\, Bobrujsku\, Połocku\, Łomży i Pińsku. Zamordowany przez Kozaków w Janowie k. Pińska podczas rzezi ludności katolickiej i żydowskiej. \nMódlmy się do św. Andrzeja Boboli prosząc go o wstawiennictwo\, aby w Polsce był ład ekumeniczny i niepodległościowy\, by dobrze układały się stosunki z narodami zza naszej wschodniej granicy. On w tej sprawie oddał swe życie.  \nŚw. Andrzej Bobola uczy nas : \n\nwierności katolicyzmowi\nniezłomności wiary\nmęstwa w przeciwnościach ze względu na Chrystusa.\n\nModlitwa za wstawiennictwem św. Andrzeja: \nŚwiety Andrzeju\, mężny żołnierzu Pana\, któryś niestrudzenie walczył pod Sztandarem Krzyża\, uproś nam łaskę wiernego pod nim trwania\, razem z Maryją\, Matką Kościoła. Wypraszaj nam także łaskę żywej wiary w moc Ukrzyżowanego i Zmartwychwstałego Pana\, byśmy naśladowali Twoją gorliwość i z większym niż dotąd zapałem głosili Ewangelię. Pragniemy jak Ty\, święty męczenniku\, być wiarygodnymi świadkami Jezusa na początku XXI wieku. Amen \n  \n
URL:https://pmk-kleve.de/event/sw-andrzeja-boboli-patrona-polski-swieto
CATEGORIES:Wydarzenia na strone główną
END:VEVENT
END:VCALENDAR