BEGIN:VCALENDAR
VERSION:2.0
PRODID:-//PMK Kleve - ECPv4.7.1//NONSGML v1.0//EN
CALSCALE:GREGORIAN
METHOD:PUBLISH
X-WR-CALNAME:PMK Kleve
X-ORIGINAL-URL:https://pmk-kleve.de
X-WR-CALDESC:Veranstaltungen für PMK Kleve
BEGIN:VEVENT
DTSTART;VALUE=DATE:20230516
DTEND;VALUE=DATE:20230517
DTSTAMP:20260422T192446
CREATED:20230428T151819Z
LAST-MODIFIED:20230512T210953Z
UID:5433-1684195200-1684281599@pmk-kleve.de
SUMMARY:św. Andrzeja Boboli
DESCRIPTION: Święty Andrzej Bobola\, kapłan i męczennik\, patron Polski\, budowniczy porozumienia i jedności. \n Żył na przełomie XVI i XVII wieku i zasłynął jako gorliwy kaznodzieja i duszpasterz jezuicki. Stąd zyskał miano „łowcy dusz”. Dnia 16 maja 1657 roku został schwytany przez Kozaków. Mimo okrutnych tortur\, nie wyrzekł się wiary w Jezusa Chrystusa. \nJego relikwie znajdują się w kościele ojców jezuitów przy ul. Rakowieckiej w Warszawie. \nNiech ten Święty Patron będzie dla nas wzorem bezkompromisowości wiary i przywiązania do Zbawiciela\, a zarazem orędownikiem w trudnym budowaniu ładu i jedności w naszej ojczyźnie i we wspólnocie narodów. \n
URL:https://pmk-kleve.de/event/sw-andrzeja-boboli
CATEGORIES:Wydarzenia na strone główną
END:VEVENT
END:VCALENDAR