BEGIN:VCALENDAR
VERSION:2.0
PRODID:-//PMK Kleve - ECPv4.7.1//NONSGML v1.0//EN
CALSCALE:GREGORIAN
METHOD:PUBLISH
X-WR-CALNAME:PMK Kleve
X-ORIGINAL-URL:https://pmk-kleve.de
X-WR-CALDESC:Veranstaltungen für PMK Kleve
BEGIN:VEVENT
DTSTART;VALUE=DATE:20241002
DTEND;VALUE=DATE:20241003
DTSTAMP:20260422T112748
CREATED:20240927T124702Z
LAST-MODIFIED:20240927T125127Z
UID:6849-1727827200-1727913599@pmk-kleve.de
SUMMARY:św. Aniołów Stróżów
DESCRIPTION:Święci Aniołowie Stróżowie\, pragną powiedzieć\, że Bóg czuwa nad swoim stworzeniem\, troszczy się o nie\, posyłając mu nieustannie opiekunów i towarzyszy. \nKażdy człowiek ma swojego Anioła Stróża. Warto o tym pamiętać.  \nMsza św. w Kleve w kościele St. Mariä Empfängnis o godz. 19.00. \nAniele Boży stróżu mój\, \nTy zawsze przy mnie stój. \nRano\, wieczór\, we dnie\, w nocy\, \nBądź mi zawsze ku pomocy. \nStrzeż duszy\, ciała\, mego\, \nbroń od wszelkiego złego  \ni zaprowadź do żywota wiecznego. \nAmen  \n
URL:https://pmk-kleve.de/event/sw-aniolow-strozow-2
CATEGORIES:Wydarzenia na strone główną
END:VEVENT
END:VCALENDAR