BEGIN:VCALENDAR
VERSION:2.0
PRODID:-//PMK Kleve - ECPv4.7.1//NONSGML v1.0//EN
CALSCALE:GREGORIAN
METHOD:PUBLISH
X-WR-CALNAME:PMK Kleve
X-ORIGINAL-URL:https://pmk-kleve.de
X-WR-CALDESC:Veranstaltungen für PMK Kleve
BEGIN:VEVENT
DTSTART;VALUE=DATE:20230117
DTEND;VALUE=DATE:20230118
DTSTAMP:20260423T070649
CREATED:20230108T170723Z
LAST-MODIFIED:20230108T170723Z
UID:4997-1673913600-1673999999@pmk-kleve.de
SUMMARY:św. Antoniego\, opata
DESCRIPTION:
URL:https://pmk-kleve.de/event/sw-antoniego-opata
CATEGORIES:Wydarzenia na strone główną
END:VEVENT
END:VCALENDAR