BEGIN:VCALENDAR
VERSION:2.0
PRODID:-//PMK Kleve - ECPv4.7.1//NONSGML v1.0//EN
CALSCALE:GREGORIAN
METHOD:PUBLISH
X-WR-CALNAME:PMK Kleve
X-ORIGINAL-URL:https://pmk-kleve.de
X-WR-CALDESC:Veranstaltungen für PMK Kleve
BEGIN:VEVENT
DTSTART;VALUE=DATE:20240629
DTEND;VALUE=DATE:20240630
DTSTAMP:20260420T053530
CREATED:20240621T080216Z
LAST-MODIFIED:20240621T080217Z
UID:6668-1719619200-1719705599@pmk-kleve.de
SUMMARY:Św. Ap. Piotra i Pawła
DESCRIPTION:Msza św. w Emmerich am Rhein\, w kościele St. Aldegundis o godz. 9.30.  \n
URL:https://pmk-kleve.de/event/sw-ap-piotra-i-pawla
CATEGORIES:Wydarzenia na strone główną
END:VEVENT
END:VCALENDAR