BEGIN:VCALENDAR
VERSION:2.0
PRODID:-//PMK Kleve - ECPv4.7.1//NONSGML v1.0//EN
CALSCALE:GREGORIAN
METHOD:PUBLISH
X-WR-CALNAME:PMK Kleve
X-ORIGINAL-URL:https://pmk-kleve.de
X-WR-CALDESC:Veranstaltungen für PMK Kleve
BEGIN:VEVENT
DTSTART;VALUE=DATE:20230711
DTEND;VALUE=DATE:20230712
DTSTAMP:20260420T062634
CREATED:20230709T071321Z
LAST-MODIFIED:20230709T071321Z
UID:5661-1689033600-1689119999@pmk-kleve.de
SUMMARY:św. Benedykta
DESCRIPTION:Św. Benedykt – opat\, patron Europy \n
URL:https://pmk-kleve.de/event/sw-benedykta
CATEGORIES:Wydarzenia na strone główną
END:VEVENT
END:VCALENDAR