BEGIN:VCALENDAR
VERSION:2.0
PRODID:-//PMK Kleve - ECPv4.7.1//NONSGML v1.0//EN
CALSCALE:GREGORIAN
METHOD:PUBLISH
X-WR-CALNAME:PMK Kleve
X-ORIGINAL-URL:https://pmk-kleve.de
X-WR-CALDESC:Veranstaltungen für PMK Kleve
BEGIN:VEVENT
DTSTART;VALUE=DATE:20220617
DTEND;VALUE=DATE:20220618
DTSTAMP:20260423T150553
CREATED:20220506T130643Z
LAST-MODIFIED:20220617T200250Z
UID:4034-1655424000-1655510399@pmk-kleve.de
SUMMARY:św. Brata Alberta Chmielowskiego
DESCRIPTION:Św. brat Albert Chmielowski – Adam Bernard Hilary Chmielowski – urodził się 20 sierpnia 1845 r. w Igołomi koło Krakowa. Był najstarszym z czwórki dzieci Wojciecha i Józefy. \nJako osiemnastoletni student Szkoły Rolniczo-Leśnej w Puławach brał udział w powstaniu styczniowym. W przegranej bitwie pod Mełchowem został ranny\, w wyniku czego amputowano mu nogę. Po wydostaniu się z niewoli\, wyjechał do Francji. \nW 1864 r. rozpoczął studia malarskie w Paryżu. Po amnestii w 1865 r. przyjechał do Warszawy\, gdzie również studiował malarstwo\, które później kontynuował w Gandawie i w Akademii Sztuk Pięknych w Monachium (1869-1874). \nPo powrocie do kraju w 1874 r. tworzył dzieła\, w których coraz częściej pojawiała się tematyka religijna. Malarstwo Chmielowskiego charakteryzowało się prostotą środków\, naturalnością i nastrojowością. Oprócz tematyki religijnej malował również realistyczne obrazy. W latach 80-tych powstał jego słynny obraz „Ecce Homo“. \nAdam Chmielowski wstąpił jezuitów\, jednak po pół roku opuścił nowicjat i wyjechał na Podole do swojego brata Stanisława. Tam związał się z tercjarzami św. Franciszka i prowadził pracę apostolską wśród ludności wiejskiej. W 1884 r. wrócił do Krakowa\, gdzie poświęcił się służbie bezdomnym i opuszczonym. \nW 1887 r. za zgodą Albina kard. Dunajewskiego przywdział habit\, a rok później złożył śluby zakonne\, przyjmując imię Albert i dając początek nowej rodzinie zakonnej. Założył zgromadzenia: Braci Albertynów (1888 r.) i Sióstr Albertynek (1891 r.)\, które oparte zostały na regule św. Franciszka z Asyżu. \nBrat Albert zajmował się biednymi i bezdomnymi. Ogrzewalnie miejskie dla bezdomnych przemieniał w przytuliska. Nie dysponując środkami materialnymi kwestował na utrzymanie ubogich. Oddając się z biegiem czasu coraz pełniej posłudze ubogim rezygnował stopniowo z malowania obrazów. Służbę na rzecz bezdomnych i nędzarzy uważał za formę kultu Męki Pańskiej. \nZakładał domy dla sierot\, kalek\, starców i nieuleczalnie chorych. Pomagał bezrobotnym organizując dla nich pracę. Słynne są słowa Brata Alberta\, że „trzeba każdemu dać jeść\, bezdomnemu miejsce\, a nagiemu odzież\, bez dachu i kawałka chleba może on już tylko kraść albo żebrać dla utrzymania życia“. \nSchorowany brat Albert\, „brat opuchlaków“ jak go nazywano\, zmarł 25 grudnia 1916 r. w Krakowie. W 1938 r. prezydent Polski Ignacy Mościcki nadał mu pośmiertnie Wielką Wstęgę Orderu Polonia Restituta za wybitne zasługi w działalności niepodległościowej i na polu pracy społecznej. \nWyniesienia Brata Alberta do chwały ołtarzy\, zarówno beatyfikacji (1983 r. w Krakowie)\, jak i kanonizacji (12 listopada 1989 r. w Rzymie) dokonał Ojciec Święty Jan Paweł II. Relikwie Świętego znajdują się w Sanktuarium Świętego Brata Alberta Ecce Homo w Krakowie. \nŹródło: https://www.bratalbert.com.pl/sw-brat-albert-53  \n
URL:https://pmk-kleve.de/event/sw-brata-alberta-chmielowskiego
CATEGORIES:Wydarzenia na strone główną
END:VEVENT
END:VCALENDAR