BEGIN:VCALENDAR
VERSION:2.0
PRODID:-//PMK Kleve - ECPv4.7.1//NONSGML v1.0//EN
CALSCALE:GREGORIAN
METHOD:PUBLISH
X-WR-CALNAME:PMK Kleve
X-ORIGINAL-URL:https://pmk-kleve.de
X-WR-CALDESC:Veranstaltungen für PMK Kleve
BEGIN:VEVENT
DTSTART;VALUE=DATE:20221122
DTEND;VALUE=DATE:20221123
DTSTAMP:20260423T121515
CREATED:20221116T163610Z
LAST-MODIFIED:20221116T163610Z
UID:4598-1669075200-1669161599@pmk-kleve.de
SUMMARY:św. Cecylii
DESCRIPTION:Święta Cecylia (III w.)\, dziewica i męczennica\, patronka muzyki kościelnej. \nWszystkim zaangażowanym w troskę o muzykę kościelną w naszej parafii\, panu organiście Andrzejowi oraz pani organistce Marcie\, scholi\, chórzystom składamy serdeczne podziękowanie za całoroczną posługę i życzymy obfitości Bożego błogosławieństwa w dalszej posłudze.  \n
URL:https://pmk-kleve.de/event/sw-cecylii
CATEGORIES:Wydarzenia na strone główną
END:VEVENT
END:VCALENDAR