BEGIN:VCALENDAR
VERSION:2.0
PRODID:-//PMK Kleve - ECPv4.7.1//NONSGML v1.0//EN
CALSCALE:GREGORIAN
METHOD:PUBLISH
X-WR-CALNAME:PMK Kleve
X-ORIGINAL-URL:https://pmk-kleve.de
X-WR-CALDESC:Veranstaltungen für PMK Kleve
BEGIN:VEVENT
DTSTART;VALUE=DATE:20230214
DTEND;VALUE=DATE:20230215
DTSTAMP:20260423T024220
CREATED:20230210T095231Z
LAST-MODIFIED:20230210T095231Z
UID:5127-1676332800-1676419199@pmk-kleve.de
SUMMARY:św. Cyryla\, mnicha i Metodego\, biskupa\, patronów Europy
DESCRIPTION:Święci Cyryl i Metody Patronowie Europy żyli w IX wieku\, pochodzili z miasta Saloniki w cesarstwie bizantyńskim. Znali wiele języków\, dzięki czemu podjęli wiele udanych wypraw misyjnych\, między innymi do Bułgarii i na Morawy\, gdzie wprowadzili do liturgii język słowiański\, pisany przystosowanym alfabetem greckim\, używany w Kościołach wschodnich do dziś. Cyryl przetłumaczył na ten język Pismo Święte.  W 1980 roku papież Jan Paweł II ogłosił Świętych Cyryla i Metodego współpatronami Europy\, podnosząc tym samym ich wspomnienie do rangi święta.\nW święto Cyryla i Metodego modlimy się za narody słowiańskie. Pamiętajmy\, że Kościół jest jeden\, choć od wieków gromadzi rozmaite narody\, tradycje i obrządki.Jako chrześcijanie jesteśmy budowniczymi jedności\, choćby przez codziennie kierowaną do Boga prośbę o pokój na świecie\, ład moralny\, o zgodę między narodami i swobodę głoszenia Chrystusowej Ewangelii. \n
URL:https://pmk-kleve.de/event/sw-cyryla-mnicha-i-metodego-biskupa-patronow-europy
CATEGORIES:Wydarzenia na strone główną
END:VEVENT
END:VCALENDAR