BEGIN:VCALENDAR
VERSION:2.0
PRODID:-//PMK Kleve - ECPv4.7.1//NONSGML v1.0//EN
CALSCALE:GREGORIAN
METHOD:PUBLISH
X-WR-CALNAME:PMK Kleve
X-ORIGINAL-URL:https://pmk-kleve.de
X-WR-CALDESC:Veranstaltungen für PMK Kleve
BEGIN:VEVENT
DTSTART;VALUE=DATE:20221117
DTEND;VALUE=DATE:20221118
DTSTAMP:20260423T170859
CREATED:20221111T142602Z
LAST-MODIFIED:20221111T142602Z
UID:4579-1668643200-1668729599@pmk-kleve.de
SUMMARY:św. Elżbiety Węgierskiej
DESCRIPTION:
URL:https://pmk-kleve.de/event/sw-elzbiety-wegierskiej
CATEGORIES:Wydarzenia na strone główną
END:VEVENT
END:VCALENDAR