BEGIN:VCALENDAR
VERSION:2.0
PRODID:-//PMK Kleve - ECPv4.7.1//NONSGML v1.0//EN
CALSCALE:GREGORIAN
METHOD:PUBLISH
X-WR-CALNAME:PMK Kleve
X-ORIGINAL-URL:https://pmk-kleve.de
X-WR-CALDESC:Veranstaltungen für PMK Kleve
BEGIN:VEVENT
DTSTART;VALUE=DATE:20230120
DTEND;VALUE=DATE:20230121
DTSTAMP:20260425T102925
CREATED:20230108T170858Z
LAST-MODIFIED:20230108T170858Z
UID:5001-1674172800-1674259199@pmk-kleve.de
SUMMARY:św. Fabiana\, papieża i męczennika
DESCRIPTION:
URL:https://pmk-kleve.de/event/sw-fabiana-papieza-i-meczennika
CATEGORIES:Wydarzenia na strone główną
END:VEVENT
END:VCALENDAR