BEGIN:VCALENDAR
VERSION:2.0
PRODID:-//PMK Kleve - ECPv4.7.1//NONSGML v1.0//EN
CALSCALE:GREGORIAN
METHOD:PUBLISH
X-WR-CALNAME:PMK Kleve
X-ORIGINAL-URL:https://pmk-kleve.de
X-WR-CALDESC:Veranstaltungen für PMK Kleve
BEGIN:VEVENT
DTSTART;VALUE=DATE:20231005
DTEND;VALUE=DATE:20231006
DTSTAMP:20260419T221900
CREATED:20230929T120813Z
LAST-MODIFIED:20230929T120813Z
UID:5886-1696464000-1696550399@pmk-kleve.de
SUMMARY:św. Faustyny Kowalskiej
DESCRIPTION:Msza św. w Beichtkapelle w Kevelaer o godz. 19.30 \n
URL:https://pmk-kleve.de/event/sw-faustyny-kowalskiej-3
CATEGORIES:Wydarzenia na strone główną
END:VEVENT
END:VCALENDAR