BEGIN:VCALENDAR
VERSION:2.0
PRODID:-//PMK Kleve - ECPv4.7.1//NONSGML v1.0//EN
CALSCALE:GREGORIAN
METHOD:PUBLISH
X-WR-CALNAME:PMK Kleve
X-ORIGINAL-URL:https://pmk-kleve.de
X-WR-CALDESC:Veranstaltungen für PMK Kleve
BEGIN:VEVENT
DTSTART;VALUE=DATE:20230504
DTEND;VALUE=DATE:20230505
DTSTAMP:20260422T200041
CREATED:20230428T151532Z
LAST-MODIFIED:20230428T181941Z
UID:5427-1683158400-1683244799@pmk-kleve.de
SUMMARY:św. Floriana
DESCRIPTION:Msza św. w Kevelaer\, Beichtkapelle o godz. 19.30. \n
URL:https://pmk-kleve.de/event/sw-floriana
CATEGORIES:Wydarzenia na strone główną
END:VEVENT
END:VCALENDAR