BEGIN:VCALENDAR
VERSION:2.0
PRODID:-//PMK Kleve - ECPv4.7.1//NONSGML v1.0//EN
CALSCALE:GREGORIAN
METHOD:PUBLISH
X-WR-CALNAME:PMK Kleve
X-ORIGINAL-URL:https://pmk-kleve.de
X-WR-CALDESC:Veranstaltungen für PMK Kleve
BEGIN:VEVENT
DTSTART;VALUE=DATE:20241004
DTEND;VALUE=DATE:20241005
DTSTAMP:20260424T100328
CREATED:20240927T124907Z
LAST-MODIFIED:20240927T124907Z
UID:6851-1728000000-1728086399@pmk-kleve.de
SUMMARY:św. Franciszka  z Asyżu
DESCRIPTION:Św. Franciszek z Asyżu\, po burzliwej młodości nawrócił się i wyrzekłszy się wszelkich dóbr\, postanowił naśladować Chrystusa w całkowitym ubóstwie\, a radykalizm jego życia znajduje wielu naśladowców do dziś. \nMsza św. w Emmerich am Rhein\, w kościele Św. Aldegundy\, o godz. 19.00. \n
URL:https://pmk-kleve.de/event/sw-franciszka-z-asyzu-2
CATEGORIES:Wydarzenia na strone główną
END:VEVENT
END:VCALENDAR