BEGIN:VCALENDAR
VERSION:2.0
PRODID:-//PMK Kleve - ECPv4.7.1//NONSGML v1.0//EN
CALSCALE:GREGORIAN
METHOD:PUBLISH
X-WR-CALNAME:PMK Kleve
X-ORIGINAL-URL:https://pmk-kleve.de
X-WR-CALDESC:Veranstaltungen für PMK Kleve
BEGIN:VEVENT
DTSTART;VALUE=DATE:20230930
DTEND;VALUE=DATE:20231001
DTSTAMP:20260420T000037
CREATED:20230824T092531Z
LAST-MODIFIED:20230824T092531Z
UID:5794-1696032000-1696118399@pmk-kleve.de
SUMMARY:św. Hieronima
DESCRIPTION:
URL:https://pmk-kleve.de/event/sw-hieronima-2
CATEGORIES:Wydarzenia na strone główną
END:VEVENT
END:VCALENDAR