BEGIN:VCALENDAR
VERSION:2.0
PRODID:-//PMK Kleve - ECPv4.7.1//NONSGML v1.0//EN
CALSCALE:GREGORIAN
METHOD:PUBLISH
X-WR-CALNAME:PMK Kleve
X-ORIGINAL-URL:https://pmk-kleve.de
X-WR-CALDESC:Veranstaltungen für PMK Kleve
BEGIN:VEVENT
DTSTART;VALUE=DATE:20220930
DTEND;VALUE=DATE:20221001
DTSTAMP:20260423T223007
CREATED:20220923T130028Z
LAST-MODIFIED:20220923T132411Z
UID:4360-1664496000-1664582399@pmk-kleve.de
SUMMARY:św. Hieronima
DESCRIPTION: \nIntelektualista\, zakonnik\, kapłan\, pustelnik oraz osobisty sekretarz Ojca Świętego Damazego. Wiele podróżował m.in. do Ziemi Świętej\, gdzie udało mu się odwiedzić większość z miejsc\, o których jest mowa w Ewangeliach.\nOwocem jego pobytu w Betlejem było m.in. przetłumaczenie Pisma Świętego.\nPomimo swej pozycji i wpływów\, prowadził pokutne życie\, opłakując swe dawne grzechy i zwyciężając pokusy. Przebywając na pustyni\, mieszkał w ciasnej celi i spał na twardej podłodze.\nCzęsto rozmyślał nad „czterema rzeczami ostatecznymi” oraz praktykował nabożeństwo do Matki Najświętszej.\nDzięki swej wiedzy i intelektowi\, bronił czci Kościoła w wielu sporach publicznych.\nZalecenie świętego Pawła skierowane do umiłowanego ucznia Tymoteusza\, święty Hieronim przyjął jako skierowane do siebie. I my przyjmijmy je dzisiaj jako wezwanie\, w którym Apostoł zwraca się do nas: Trwaj w tym\, czego się nauczyłeś i co ci zawierzono\, bo wiesz\, od kogo się nauczyłeś. Od lat bowiem niemowlęcych znasz Pisma święte\, które mogą cię nauczyć mądrości wiodącej ku zbawieniu przez wiarę w Chrystusie Jezusie (2 Tm 3\,14-15). \nModlitwa św. Hieronima o dar rozważania Słowa Bożego:\nŚwięty Hieronimie\,\nDoktorze Kościoła i strażniku czystości wiary\, który jako pierwszy obdarowałeś Kościół jednolitym tłumaczeniem Biblii z języków oryginalnych\, wspomóż nas we właściwym rozeznawaniu Słowa Bożego.\nPoprowadź nas drogą medytacji biblijnej\, abyśmy w Piśmie dostrzegali głębię Bożej Mądrości i miłość z jaką Bóg przemawia do swoich dzieci.\nWyproś nam u Ducha Świętego dar odnalezienia na kartach Biblii naszego Pana Jezusa w Jego Słowie\, ukochania tego Słowa\, i łaskę życia Nim każdego dnia. Chroń nas od błędów\, które próbują się wedrzeć do nauki Kościoła\, a zwłaszcza naucz nas odpierać teorie niezgodne z Prawdą zawartą w Biblii lub tę prawdę wymijające.\nNiech Twoja opieka zaowocuje naszym wzrastaniem w wierze\, miłością do Słowa i wiernością wewprowadzaniu Go w życie.\nPrzez Chrystusa Pana naszego. Amen. \nŹródło: https://hieronim.org oraz https://swhieronim.pl \n  \n
URL:https://pmk-kleve.de/event/sw-hieronima
CATEGORIES:Wydarzenia na strone główną
END:VEVENT
END:VCALENDAR