BEGIN:VCALENDAR
VERSION:2.0
PRODID:-//PMK Kleve - ECPv4.7.1//NONSGML v1.0//EN
CALSCALE:GREGORIAN
METHOD:PUBLISH
X-WR-CALNAME:PMK Kleve
X-ORIGINAL-URL:https://pmk-kleve.de
X-WR-CALDESC:Veranstaltungen für PMK Kleve
BEGIN:VEVENT
DTSTART;VALUE=DATE:20230113
DTEND;VALUE=DATE:20230114
DTSTAMP:20260423T054841
CREATED:20230108T173426Z
LAST-MODIFIED:20230108T173426Z
UID:5022-1673568000-1673654399@pmk-kleve.de
SUMMARY:św. Hilarego\, biskupa i doktora Kościoła
DESCRIPTION:Panie Jezu\, Ty masz władzę odpuszczania grzechów. Uczyń mnie wrażliwym na duchowe paraliże\, które są o wiele gorsze od fizycznych dolegliwości. Amen \nks. Cyprian Kostrzewa SSP \n
URL:https://pmk-kleve.de/event/sw-hilarego-biskupa-i-doktora-kosciola
CATEGORIES:Wydarzenia na strone główną
END:VEVENT
END:VCALENDAR