BEGIN:VCALENDAR
VERSION:2.0
PRODID:-//PMK Kleve - ECPv4.7.1//NONSGML v1.0//EN
CALSCALE:GREGORIAN
METHOD:PUBLISH
X-WR-CALNAME:PMK Kleve
X-ORIGINAL-URL:https://pmk-kleve.de
X-WR-CALDESC:Veranstaltungen für PMK Kleve
BEGIN:VEVENT
DTSTART;VALUE=DATE:20230725
DTEND;VALUE=DATE:20230726
DTSTAMP:20260420T062132
CREATED:20230709T073131Z
LAST-MODIFIED:20230709T073132Z
UID:5665-1690243200-1690329599@pmk-kleve.de
SUMMARY:św. Jakuba\, apostoła
DESCRIPTION:
URL:https://pmk-kleve.de/event/sw-jakuba-apostola
CATEGORIES:Wydarzenia na strone główną
END:VEVENT
END:VCALENDAR