BEGIN:VCALENDAR
VERSION:2.0
PRODID:-//PMK Kleve - ECPv4.7.1//NONSGML v1.0//EN
CALSCALE:GREGORIAN
METHOD:PUBLISH
X-WR-CALNAME:PMK Kleve
X-ORIGINAL-URL:https://pmk-kleve.de
X-WR-CALDESC:Veranstaltungen für PMK Kleve
BEGIN:VEVENT
DTSTART;VALUE=DATE:20230131
DTEND;VALUE=DATE:20230201
DTSTAMP:20260423T053025
CREATED:20230108T172328Z
LAST-MODIFIED:20230108T172328Z
UID:5014-1675123200-1675209599@pmk-kleve.de
SUMMARY:św. Jana Bosko\, prezbitera
DESCRIPTION:Boże\, wierzę\, że nie uczyniłeś śmierci i nie cieszysz się ze zguby żyjących. Pomnóż moją słabą wiarę. Amen \nks. Cyprian Kostrzewa SSP \n
URL:https://pmk-kleve.de/event/sw-jana-bosko-prezbitera
CATEGORIES:Wydarzenia na strone główną
END:VEVENT
END:VCALENDAR