BEGIN:VCALENDAR
VERSION:2.0
PRODID:-//PMK Kleve - ECPv4.7.1//NONSGML v1.0//EN
CALSCALE:GREGORIAN
METHOD:PUBLISH
X-WR-CALNAME:PMK Kleve
X-ORIGINAL-URL:https://pmk-kleve.de
X-WR-CALDESC:Veranstaltungen für PMK Kleve
BEGIN:VEVENT
DTSTART;VALUE=DATE:20221022
DTEND;VALUE=DATE:20221023
DTSTAMP:20260423T204517
CREATED:20221013T100031Z
LAST-MODIFIED:20221024T163042Z
UID:4432-1666396800-1666483199@pmk-kleve.de
SUMMARY:Św. Jana Pawła II\, papieża
DESCRIPTION:Nasza parafia jest pw. Św. Jana Pawła II\, papieża\, Polaka. \nJest to ogromny dar i zobowiązanie dla każdego z nas.  \nDar\, ponieważ możemy z ufnością prosić tak wielkiego Orędownika\, aby wstawiał się za nami w niebie. \nZobowiązanie\, ponieważ jako Polacy powinniśmy pielęgnować pozostawione nam wielkie dziedzictwo i próbować naśladować – wierzyć w Boga\, ufać Bogu i Maryi oraz kochać Boga i ludzi – tak jak to czynił nasz wielki patron – św. Jan Paweł II. \nModlitwa o wyproszenie łask za wstawiennictwem Św. Jana Pawła II \nŚwięty Janie Pawle II\, za Twoim pośrednictwem proszę o łaski dla mnie (i moich bliskich). Wierzę w moc mej Modlitwy i w Twoją zbawienną pomoc. \nWyproś mi u Boga Wszechmogącego łaski\, o które pokornie proszę… (należy wymienić prośby). Uproś mi też dar umocnienia mojej wiary\, nadziei i miłości.\nPanie Jezu Chryste\, Ty obiecałeś\, że o cokolwiek w Twoje imię poprosimy\, to otrzymamy. Dlatego i ja\, Panie\, pełen ufności\, proszę Cię o potrzebne mi łaski\, za \nwstawiennictwem świętego Jana Pawła II. Wysłuchaj mnie\, Panie! Amen. \nProśba o wstawiennictwo Św. Jana Pawła II \nJanie Pawle II\, nasz święty orędowniku\, wspomożycielu w trudnych sprawach. Ty\, \nktóry swoim życiem świadczyłeś o wielkiej miłości do Boga i ludzi\, prowadząc nas \ndrogą Jezusa i Maryi\, w umiłowaniu obojga\, pragnąc pomagać innym. Przez miłość i \nwielkie cierpienie\, ofiarowane za bliźnich\, co dzień zbliżamy się do świętości.  \nPragnę prosić Cię o wstawiennictwo w mojej sprawie… wierząc\, że przez Twoją wiarę\, \nmodlitwę i miłość pomożesz zanieść ją do Boga. Ufam w miłosierdzie Boże i moc \nTwej papieskiej modlitwy. Pragnę przez Jezusa i Maryję za Twoim przykładem zbliżyć się do Boga.\nOjcze nasz…\, Zdrowaś Maryjo…\, Chwała Ojcu…  \n
URL:https://pmk-kleve.de/event/sw-jana-pawla-ii-papieza
CATEGORIES:Wydarzenia na strone główną
END:VEVENT
END:VCALENDAR