BEGIN:VCALENDAR
VERSION:2.0
PRODID:-//PMK Kleve - ECPv4.7.1//NONSGML v1.0//EN
CALSCALE:GREGORIAN
METHOD:PUBLISH
X-WR-CALNAME:PMK Kleve
X-ORIGINAL-URL:https://pmk-kleve.de
X-WR-CALDESC:Veranstaltungen für PMK Kleve
BEGIN:VEVENT
DTSTART;VALUE=DATE:20241022
DTEND;VALUE=DATE:20241023
DTSTAMP:20260422T143203
CREATED:20240927T131905Z
LAST-MODIFIED:20241011T102549Z
UID:6864-1729555200-1729641599@pmk-kleve.de
SUMMARY:Św. Jana Pawła II
DESCRIPTION:Msza św. z Nowenną do św. Jana Pawła II w kościele St. Mariä Empfängnis w Kleve o godz. 19.00. \n  \n
URL:https://pmk-kleve.de/event/sw-jana-pawla-ii
CATEGORIES:Wydarzenia na strone główną
END:VEVENT
END:VCALENDAR