BEGIN:VCALENDAR
VERSION:2.0
PRODID:-//PMK Kleve - ECPv4.7.1//NONSGML v1.0//EN
CALSCALE:GREGORIAN
METHOD:PUBLISH
X-WR-CALNAME:PMK Kleve
X-ORIGINAL-URL:https://pmk-kleve.de
X-WR-CALDESC:Veranstaltungen für PMK Kleve
BEGIN:VEVENT
DTSTART;VALUE=DATE:20221011
DTEND;VALUE=DATE:20221012
DTSTAMP:20260423T152538
CREATED:20221013T100804Z
LAST-MODIFIED:20221013T100804Z
UID:4452-1665446400-1665532799@pmk-kleve.de
SUMMARY:św. Jana XXIII\, papieża
DESCRIPTION:
URL:https://pmk-kleve.de/event/sw-jana-xxiii-papieza
CATEGORIES:Wydarzenia na strone główną
END:VEVENT
END:VCALENDAR