BEGIN:VCALENDAR
VERSION:2.0
PRODID:-//PMK Kleve - ECPv4.7.1//NONSGML v1.0//EN
CALSCALE:GREGORIAN
METHOD:PUBLISH
X-WR-CALNAME:PMK Kleve
X-ORIGINAL-URL:https://pmk-kleve.de
X-WR-CALDESC:Veranstaltungen für PMK Kleve
BEGIN:VEVENT
DTSTART;VALUE=DATE:20230119
DTEND;VALUE=DATE:20230120
DTSTAMP:20260423T101510
CREATED:20230108T170821Z
LAST-MODIFIED:20230108T170822Z
UID:4999-1674086400-1674172799@pmk-kleve.de
SUMMARY:św. Józefa Pelczara\, biskupa
DESCRIPTION:
URL:https://pmk-kleve.de/event/sw-jozefa-pelczara-biskupa
CATEGORIES:Wydarzenia na strone główną
END:VEVENT
END:VCALENDAR