BEGIN:VCALENDAR
VERSION:2.0
PRODID:-//PMK Kleve - ECPv4.7.1//NONSGML v1.0//EN
CALSCALE:GREGORIAN
METHOD:PUBLISH
X-WR-CALNAME:PMK Kleve
X-ORIGINAL-URL:https://pmk-kleve.de
X-WR-CALDESC:Veranstaltungen für PMK Kleve
BEGIN:VEVENT
DTSTART;VALUE=DATE:20230501
DTEND;VALUE=DATE:20230502
DTSTAMP:20260422T183008
CREATED:20230428T151300Z
LAST-MODIFIED:20230428T151300Z
UID:5423-1682899200-1682985599@pmk-kleve.de
SUMMARY:Św. Józefa\, Rzemieślnika
DESCRIPTION:Dzień 1 maja – to Święto Pracy.  \nProśmy patrona tego dnia – Świętego Józefa Robotnika o wrażliwość sumień i ład moralny w życiu społecznym.  \n
URL:https://pmk-kleve.de/event/sw-jozefa-rzemieslnika
CATEGORIES:Wydarzenia na strone główną
END:VEVENT
END:VCALENDAR