BEGIN:VCALENDAR
VERSION:2.0
PRODID:-//PMK Kleve - ECPv4.7.1//NONSGML v1.0//EN
CALSCALE:GREGORIAN
METHOD:PUBLISH
X-WR-CALNAME:PMK Kleve
X-ORIGINAL-URL:https://pmk-kleve.de
X-WR-CALDESC:Veranstaltungen für PMK Kleve
BEGIN:VEVENT
DTSTART;VALUE=DATE:20230304
DTEND;VALUE=DATE:20230305
DTSTAMP:20260423T003416
CREATED:20230224T123443Z
LAST-MODIFIED:20230303T115706Z
UID:5189-1677888000-1677974399@pmk-kleve.de
SUMMARY:św. Kazimierza\, królewicza
DESCRIPTION:Dzisiaj w liturgii czcimy Świętego Kazimierza (1458-1484)\, polskiego królewicza\, który swym bogobojnym życiem udowodnił\, że władza wcale nie musi być okazją do nadużyć\, korupcji ani wyścigu w gromadzeniu doczesnego bogactwa. Władza i polityka są dziełem Boga i traktowane jako powołanie mogą stać się też drogą do świętości. \nKazimierz posiadał dobre wykształcenie. Jego nauczycielami byli Jan Długosz i Kallimach. Jan Długosz tak pisał o Kazimierzu: „Był młodzieńcem szlachetnym\, rzadkich zdolności i godnego pamięci rozumu”. \nKazimierz bardzo dbał również o swe życie religijne. Do końca życia zachował czystość. Jego ukochaną modlitwą był łaciński hymn przypisywany św. Bernardowi „Omni die dic Mariae” („Każdego dnia wychwalaj Maryję”)\, a jedną z ulubionych praktyk religijnych pielgrzymowanie: najczęściej na Jasną Górę oraz do sanktuarium relikwii Krzyża Świętego na Łysej Górze. \nTego dnia zapraszam na:  \n\nEucharystię sprawowaną o godz. 9.30 w Kevelaer w Beichtkapelle oraz\nadorację w Kleve w St. Mariä Empfängnis od godz. 18.00.\n\n
URL:https://pmk-kleve.de/event/sw-kazimierza-krolewicza
CATEGORIES:Wydarzenia na strone główną
END:VEVENT
END:VCALENDAR