BEGIN:VCALENDAR
VERSION:2.0
PRODID:-//PMK Kleve - ECPv4.7.1//NONSGML v1.0//EN
CALSCALE:GREGORIAN
METHOD:PUBLISH
X-WR-CALNAME:PMK Kleve
X-ORIGINAL-URL:https://pmk-kleve.de
X-WR-CALDESC:Veranstaltungen für PMK Kleve
BEGIN:VEVENT
DTSTART;VALUE=DATE:20230724
DTEND;VALUE=DATE:20230725
DTSTAMP:20260420T044934
CREATED:20230709T073053Z
LAST-MODIFIED:20230709T073053Z
UID:5663-1690156800-1690243199@pmk-kleve.de
SUMMARY:św. Kingi
DESCRIPTION:Św. Kinga – księżna krakowska i sandomierska\, a następnie zakonnica w Zakonie Świętej Klary (klarysek)\, dziewica \nŚwięta Kinga\, była węgierską księżniczką. Jako żona Bolesława Wstydliwego\, króla Polski\, była i pozostaje patronką wysiłków samorządowych i patronką pracujących górników. Sprowadziła do Polski górników węgierskich\, którzy odkryli w kraju złoża soli w Bochni i Wieliczce. Po śmierci męża św. Kinga podjęła specjalne starania\, w wyniku czego powstał najsłynniejszy w Polsce\, a umiejscowiony w Starym Sączu\, klasztor klarysek. Sama wstąpiła wówczas na stałe do tego zakonu. Według relacji świadków i materiałów źródłowych\, jej dusza tętniła pokorą\, była pobożna ale i zaangażowana. Stan zakonny nie pozbawił jej talentów\, dlatego nawet jako klaryska była pomocna swym intelektem w dziedzinie udzielanych rad. Zmarła 24 lipca 1292 w Starym Sączu. Została kanonizowana 16 czerwca 1999 roku przez Jana Pawła II podczas jego pielgrzymki do Polski w uroczystej mszy w Starym Sączu. \nŹródło: https://zyciorysy.info/sw-kinga/  \n
URL:https://pmk-kleve.de/event/sw-kingi
CATEGORIES:Wydarzenia na strone główną
END:VEVENT
END:VCALENDAR