BEGIN:VCALENDAR
VERSION:2.0
PRODID:-//PMK Kleve - ECPv4.7.1//NONSGML v1.0//EN
CALSCALE:GREGORIAN
METHOD:PUBLISH
X-WR-CALNAME:PMK Kleve
X-ORIGINAL-URL:https://pmk-kleve.de
X-WR-CALDESC:Veranstaltungen für PMK Kleve
BEGIN:VEVENT
DTSTART;VALUE=DATE:20230313
DTEND;VALUE=DATE:20230314
DTSTAMP:20260423T010107
CREATED:20230310T120606Z
LAST-MODIFIED:20230310T120606Z
UID:5240-1678665600-1678751999@pmk-kleve.de
SUMMARY:św. Krystyny
DESCRIPTION:
URL:https://pmk-kleve.de/event/sw-krystyny
CATEGORIES:Wydarzenia na strone główną
END:VEVENT
END:VCALENDAR