BEGIN:VCALENDAR
VERSION:2.0
PRODID:-//PMK Kleve - ECPv4.7.1//NONSGML v1.0//EN
CALSCALE:GREGORIAN
METHOD:PUBLISH
X-WR-CALNAME:PMK Kleve
X-ORIGINAL-URL:https://pmk-kleve.de
X-WR-CALDESC:Veranstaltungen für PMK Kleve
BEGIN:VEVENT
DTSTART;VALUE=DATE:20221018
DTEND;VALUE=DATE:20221019
DTSTAMP:20260424T130609
CREATED:20221013T100133Z
LAST-MODIFIED:20221013T100133Z
UID:4436-1666051200-1666137599@pmk-kleve.de
SUMMARY:św. Łukasza\, ewangelisty
DESCRIPTION:
URL:https://pmk-kleve.de/event/sw-lukasza-ewangelisty
CATEGORIES:Wydarzenia na strone główną
END:VEVENT
END:VCALENDAR