BEGIN:VCALENDAR
VERSION:2.0
PRODID:-//PMK Kleve - ECPv4.7.1//NONSGML v1.0//EN
CALSCALE:GREGORIAN
METHOD:PUBLISH
X-WR-CALNAME:PMK Kleve
X-ORIGINAL-URL:https://pmk-kleve.de
X-WR-CALDESC:Veranstaltungen für PMK Kleve
BEGIN:VEVENT
DTSTART;VALUE=DATE:20230522
DTEND;VALUE=DATE:20230523
DTSTAMP:20260422T172528
CREATED:20230520T222050Z
LAST-MODIFIED:20230520T222248Z
UID:5525-1684713600-1684799999@pmk-kleve.de
SUMMARY:św. Rity z Cascia
DESCRIPTION:Msza św. z udziałem dzieci pierwszokomunijnych – Kleve\, kościół pw. Chrystusa Króla\, godz. 19.00 \n
URL:https://pmk-kleve.de/event/sw-rity-z-cascia
CATEGORIES:Wydarzenia na strone główną
END:VEVENT
END:VCALENDAR