BEGIN:VCALENDAR
VERSION:2.0
PRODID:-//PMK Kleve - ECPv4.7.1//NONSGML v1.0//EN
CALSCALE:GREGORIAN
METHOD:PUBLISH
X-WR-CALNAME:PMK Kleve
X-ORIGINAL-URL:https://pmk-kleve.de
X-WR-CALDESC:Veranstaltungen für PMK Kleve
BEGIN:VEVENT
DTSTART;VALUE=DATE:20240522
DTEND;VALUE=DATE:20240523
DTSTAMP:20260420T035733
CREATED:20240517T124354Z
LAST-MODIFIED:20240517T124355Z
UID:6585-1716336000-1716422399@pmk-kleve.de
SUMMARY:św. Rity z Cascii
DESCRIPTION:Msza św. w kościele Chrystusa Króla w Kleve (Lindenallee 98) o godz. 19.00. \nPrzed Mszą św. nabożeństwo różańcowe. \nPo Mszy św. nabożenstwo majowe – litania loretańska. \n
URL:https://pmk-kleve.de/event/sw-rity-z-cascii
CATEGORIES:Wydarzenia na strone główną
END:VEVENT
END:VCALENDAR