BEGIN:VCALENDAR
VERSION:2.0
PRODID:-//PMK Kleve - ECPv4.7.1//NONSGML v1.0//EN
CALSCALE:GREGORIAN
METHOD:PUBLISH
X-WR-CALNAME:PMK Kleve
X-ORIGINAL-URL:https://pmk-kleve.de
X-WR-CALDESC:Veranstaltungen für PMK Kleve
BEGIN:VEVENT
DTSTART;VALUE=DATE:20230728
DTEND;VALUE=DATE:20230729
DTSTAMP:20260420T095029
CREATED:20230709T073417Z
LAST-MODIFIED:20230721T081840Z
UID:5671-1690502400-1690588799@pmk-kleve.de
SUMMARY:św. Szarbela
DESCRIPTION:Pan Bóg wybiera niektórych ludzi\, aby w nadzwyczajny sposób przypominali światu o jego istnieniu\, Jego wszechmocnej miłości oraz nieskończonym miłosierdziu. Jednym z wybranych jest święty Szarbel Machluf – najbardziej znany współcześnie święty na Bliskim Wschodzie. Był on libańskim pustelnikiem\, całkowicie poświęconym Chrystusowi. Pomimo tego\, że był najzdolniejszym studentem teologii w Kfifan\, nie napisał żadnej książki. Dla świata nauki jest wielką tajemnicą\, a dla nas wszystkich czytelnym znakiem obecności Boga. Urodził się 8 maja 1828 roku w Beka’kafra\, 140 km od Bejrutu. Rodzice byli katolikami obrządku maronickiego. Zakonnik\, kapłan\, pustelnik. W heroiczny sposób naśladował Chrystusa. Był tak ściśle zjednoczony z Chrystusem\, że w spotkaniu z każdym człowiekiem promieniował radością czystej miłości\, a Jezus przez Jego pośrednictwo mógł dokonywać różnych znaków i cudów. Uzdrawiał m.in. psychicznie chorych\, a także zarażonych tyfusem\, z poświęconych przez niego pól znikała szarańcza. Ówczesny przeor klasztoru pisał o nim: „Był błyszczącą gwiazdą\, która swoją świętością ochraniała Zakon\, Kościół i cały Liban”.  \nJego ciało nie uległo pośmiertnemu rozkładowi\, roztaczając dodatkowo niezwykłą woń i wydzielając ciecz – olej o uzdrawiającej mocy. Potwierdzają te fakty wielokrotne ekshumacje i badania lekarskie. Bóg za pośrednictwem św. Szarbela uzdrawia serca i ciała milionów ludzi milionów ludzi – nawet po jego śmierci. Ten zakonnik i ciężko pracujący w milczeniu i pokorze asceta\, przykładem swojego życia i nieustannym wstawiennictwem u Boga apeluje do nas\, abyśmy codziennie\, z odwagą i w sposób bezkompromisowy\, zmierzali do szczęścia wiecznego w niebie. A prowadzi tam tylko jedna droga\, na którą zaprasza nas Jezus: „Jeśli kto chce pójść za Mną\, niech się zaprze samego siebie\, niech weźmie krzyż swój i niech Mnie naśladuje! Bo kto chce zachować swoje życie\, straci je\, a kto straci swe życie z powodu Mnie i Ewangelii\, zachowa je” (Mk 8\,34-35).  \nPatrząc na przykład św. Szarbela\, nie bójmy się iść drogą umartwienia\, zaparcia się siebie\, śmierci dla grzechu\, aby całkowicie jednoczyć się z Chrystusem – Źródłem Miłości – przez wytrwałą modlitwę\, sakramenty pokuty i Eucharystii oraz ofiarną miłość bliźniego.  \nŹródło: Święty Szarbel – przyjaciel Boga i ludzi\, Wyd. Agape\, s. 5-19  \n
URL:https://pmk-kleve.de/event/sw-szarbela
CATEGORIES:Wydarzenia na strone główną
END:VEVENT
END:VCALENDAR