BEGIN:VCALENDAR
VERSION:2.0
PRODID:-//PMK Kleve - ECPv4.7.1//NONSGML v1.0//EN
CALSCALE:GREGORIAN
METHOD:PUBLISH
X-WR-CALNAME:PMK Kleve
X-ORIGINAL-URL:https://pmk-kleve.de
X-WR-CALDESC:Veranstaltungen für PMK Kleve
BEGIN:VEVENT
DTSTART;VALUE=DATE:20221226
DTEND;VALUE=DATE:20221227
DTSTAMP:20260423T140113
CREATED:20221209T183332Z
LAST-MODIFIED:20221209T183855Z
UID:4860-1672012800-1672099199@pmk-kleve.de
SUMMARY:Św. Szczepana\, pierwszego męczennika
DESCRIPTION:Porządek Mszy świętych: \n\nEmmerich\, St. Aldegundis godz. 9.30\nKleve\, Christus König godz. 13.00\nKevelaer\, St. Antonius godz. 16.00\n\n
URL:https://pmk-kleve.de/event/sw-szczepana-pierwszego-meczennika
CATEGORIES:Wydarzenia na strone główną
END:VEVENT
END:VCALENDAR