BEGIN:VCALENDAR
VERSION:2.0
PRODID:-//PMK Kleve - ECPv4.7.1//NONSGML v1.0//EN
CALSCALE:GREGORIAN
METHOD:PUBLISH
X-WR-CALNAME:PMK Kleve
X-ORIGINAL-URL:https://pmk-kleve.de
X-WR-CALDESC:Veranstaltungen für PMK Kleve
BEGIN:VEVENT
DTSTART;VALUE=DATE:20221001
DTEND;VALUE=DATE:20221002
DTSTAMP:20260423T194034
CREATED:20220923T132630Z
LAST-MODIFIED:20220923T132631Z
UID:4371-1664582400-1664668799@pmk-kleve.de
SUMMARY:św. Teresy od Dzieciątka Jezus
DESCRIPTION:
URL:https://pmk-kleve.de/event/sw-teresy-od-dzieciatka-jezus
CATEGORIES:Wydarzenia na strone główną
END:VEVENT
END:VCALENDAR