BEGIN:VCALENDAR
VERSION:2.0
PRODID:-//PMK Kleve - ECPv4.7.1//NONSGML v1.0//EN
CALSCALE:GREGORIAN
METHOD:PUBLISH
X-WR-CALNAME:PMK Kleve
X-ORIGINAL-URL:https://pmk-kleve.de
X-WR-CALDESC:Veranstaltungen für PMK Kleve
BEGIN:VEVENT
DTSTART;VALUE=DATE:20221015
DTEND;VALUE=DATE:20221016
DTSTAMP:20260423T183615
CREATED:20221013T100401Z
LAST-MODIFIED:20221013T100402Z
UID:4444-1665792000-1665878399@pmk-kleve.de
SUMMARY:św. Teresy od Jezusa
DESCRIPTION:
URL:https://pmk-kleve.de/event/sw-teresy-od-jezusa
CATEGORIES:Wydarzenia na strone główną
END:VEVENT
END:VCALENDAR