BEGIN:VCALENDAR
VERSION:2.0
PRODID:-//PMK Kleve - ECPv4.7.1//NONSGML v1.0//EN
CALSCALE:GREGORIAN
METHOD:PUBLISH
X-WR-CALNAME:PMK Kleve
X-ORIGINAL-URL:https://pmk-kleve.de
X-WR-CALDESC:Veranstaltungen für PMK Kleve
BEGIN:VEVENT
DTSTART;VALUE=DATE:20220928
DTEND;VALUE=DATE:20220929
DTSTAMP:20260423T210757
CREATED:20220923T132119Z
LAST-MODIFIED:20220923T132119Z
UID:4366-1664323200-1664409599@pmk-kleve.de
SUMMARY:św. Wacława
DESCRIPTION:Św. Wacław\, urodził się około 907 r. jako syn księcia czeskiego Wratysława I. Został wychowany przez swoją babkę św. Ludmiłę. Objął rządy po śmierci ojca\, mając jedynie 18 lat. Wspomagał misjonarzy\, którzy nawracali na chrześcijaństwo pogan. Był hojny dla ubogich i życzliwy dla prostych. Wyróżniał sie wielką pobożnością. „Stanowi wzór świętości dla kierujących losami wspólnot i narodów. “ (Benedykt VI 2009 r.). „Był królem dbającym zarówno o losy swych poddanych\, ich wiarę i egzystencję\, jak i o pozycję swego kraju w ówczesnym świecie“ (Jan Andrzej Spież OP). Miał przeciw sobie opozycję o tendencjach odśrodkowych i tradycyjno-pogańskich. Zginął z rąk siepaczy nasłanych przez rodzonego brata Bolesława Okrutnego w Starym Bolesławcu. Mordu miano dokonać u bram kościoła. Jego relikwie spoczywają w katedrze praskiej. Św. Wacław jest patronem Czech\, Moraw\, Pragi oraz katedry krakowskiej. \nLitania do św. Wacława \nKyrie elejson\, Chryste elejson\, Kyrie elejson.\nChryste\, usłysz nas. Chryste\, wysłuchaj nas. \nOjcze z nieba\, Boże\, – zmiłuj się nad nami.\nSynu Odkupicielu świata\, Boże\,\nDuchu Święty\, Boże\,\nŚwięta Trójco\, jedyny Boże\, \nŚwięta Maryjo\, – módl się za nami.\nŚwięty Wacławie\,\nPochodnio gorejąca w domu Bożym\,\nOd dziecka postępujący w doskonałości\,\nWzorze doskonałości chrześcijańskiej\,\nCzech Patronie\,\nWzorze możnych tego świata\,\nWzorze książąt i królów\,\nZwierciadło sprawiedliwości\,\nPrzykładzie cierpliwości\,\nMiłośniku Boży\,\nŚwiatło Kościoła Bożego\,\nNaśladowco Chrystusa\,\nŻarliwy czcicielu Najświętszego Sakramentu\,\nPocieszycielu strapionych\,\nŹródło dobroci\,\nKrzewicielu wiary świętej\,\nOjcze sierot i ubogich\,\nMłodzieńcze nieskalany\,\nWzorze pokory i łaskawości\,\nDziełami przed Bogiem wielki\,\nPogromco występnych\,\nCnót nauczycielu\,\nRadości i chwało Ojczyzny\,\nOfiaro miłości bliźniego\,\nUczestniku niebieskiej chwały\,\nOrędowniku nasz u Boga\,\nPatronie naszej parafii\, \nBaranku Boży\, który gładzisz grzechy świata\, przepuść nam Panie.\nBaranku Boży\, który gładzisz grzechy świata\, wysłuchaj nas Panie.\nBaranku Boży\, który gładzisz grzechy świata\, zmiłuj się nad nami. \nK. Módl się za nami święty Wacławie.\nW. Abyśmy się stali godnymi obietnic Chrystusowych. \nMódlmy się: Wszechmogący\, wieczny Boże\, z Twoją pomocą święty Wacław aż do śmierci walczył w obronie wiary\, spraw za jego wstawiennictwem\, abyśmy z miłości ku Tobie cierpliwie znosili wszelkie przeciwności i ze wszystkich sił dążyli do Ciebie\, bo Ty jesteś prawdziwym życiem. Przez Chrystusa Pana naszego. \nW. Amen. \nŹródło: https://waclaw.org.pl  \n
URL:https://pmk-kleve.de/event/sw-waclawa
CATEGORIES:Wydarzenia na strone główną
END:VEVENT
END:VCALENDAR