BEGIN:VCALENDAR
VERSION:2.0
PRODID:-//PMK Kleve - ECPv4.7.1//NONSGML v1.0//EN
CALSCALE:GREGORIAN
METHOD:PUBLISH
X-WR-CALNAME:PMK Kleve
X-ORIGINAL-URL:https://pmk-kleve.de
X-WR-CALDESC:Veranstaltungen für PMK Kleve
BEGIN:VEVENT
DTSTART;VALUE=DATE:20230927
DTEND;VALUE=DATE:20230928
DTSTAMP:20260423T085258
CREATED:20230824T092437Z
LAST-MODIFIED:20230824T092437Z
UID:5790-1695772800-1695859199@pmk-kleve.de
SUMMARY:św. Wincentego a Paulo
DESCRIPTION:
URL:https://pmk-kleve.de/event/sw-wincentego-a-paulo
CATEGORIES:Wydarzenia na strone główną
END:VEVENT
END:VCALENDAR